BEGIN:VCALENDAR
VERSION:2.0
PRODID:-//Tukios.com/
BEGIN:VEVENT
UID:51a6afc1-f519-4b06-9136-00c9a75c7204@www.penwellgabeltopeka.com
DTSTAMP:20260421T011630Z
DTSTART:20260427T160000Z
DTEND:20260427T170000Z
SUMMARY:Memorial Service
DESCRIPTION:
URL:https://www.penwellgabeltopeka.com/obituaries/yolanda-duran
LOCATION:Penwell Gabel Funeral Home 1321 Southwest 10th Avenue  Topeka KS 
	66604
GEO:39.0503711;-95.693784
END:VEVENT
END:VCALENDAR