BEGIN:VCALENDAR
VERSION:2.0
PRODID:-//Tukios.com/
BEGIN:VEVENT
UID:109247fc-dbd4-4e93-bfa8-76dd44ef669a@www.penwellgabeltopeka.com
DTSTAMP:20260419T224626Z
DTSTART:20260425T150000Z
DTEND:20260425T160000Z
SUMMARY:Memorial Service
DESCRIPTION:
URL:https://www.penwellgabeltopeka.com/obituaries/larry-engler
LOCATION:Topeka First Assembly Church 500 Southwest 27th Street  Topeka 
	KS 66611
GEO:39.0231145;-95.6855306
END:VEVENT
END:VCALENDAR