BEGIN:VCALENDAR
VERSION:2.0
PRODID:-//Tukios.com/
BEGIN:VEVENT
UID:57859803-cefc-487f-b25e-85df8661eef9@www.penwellgabeltopeka.com
DTSTAMP:20260424T183922Z
DTSTART:20260429T200000Z
DTEND:20260429T210000Z
SUMMARY:Graveside Service
DESCRIPTION:
URL:https://www.penwellgabeltopeka.com/obituaries/judy-say
LOCATION:    Maple Hill KS 
GEO:39.0845812;-96.0282195
END:VEVENT
END:VCALENDAR