BEGIN:VCALENDAR
VERSION:2.0
PRODID:-//Tukios.com/
BEGIN:VEVENT
UID:943ee092-ae35-4fe7-a59d-e81888fbae70@www.penwellgabeltopeka.com
DTSTAMP:20260424T183911Z
DTSTART:20260429T180000Z
DTEND:20260429T190000Z
SUMMARY:Funeral Service
DESCRIPTION:
URL:https://www.penwellgabeltopeka.com/obituaries/judy-say
LOCATION: 1321 SW 10th Ave  Topeka KS 66604
GEO:39.0503096;-95.6939536
END:VEVENT
END:VCALENDAR