BEGIN:VCALENDAR
VERSION:2.0
PRODID:-//Tukios.com/
BEGIN:VEVENT
UID:a3ac5384-2985-4f6c-aec8-26edd91c8c15@www.penwellgabeltopeka.com
DTSTAMP:20260424T183847Z
DTSTART:20260428T220000Z
DTEND:20260429T000000Z
SUMMARY:Visitation
DESCRIPTION:
URL:https://www.penwellgabeltopeka.com/obituaries/judy-say
LOCATION: 1321 SW 10th Ave  Topeka KS 66604
GEO:39.0503096;-95.6939536
END:VEVENT
END:VCALENDAR