BEGIN:VCALENDAR
VERSION:2.0
PRODID:-//Tukios.com/
BEGIN:VEVENT
UID:6e3ecc8d-26d4-4b14-9717-3c0fac2740c2@www.penwellgabeltopeka.com
DTSTAMP:20260423T191316Z
DTSTART:20260427T190000Z
DTEND:20260427T200000Z
SUMMARY:Graveside Service
DESCRIPTION:
URL:https://www.penwellgabeltopeka.com/obituaries/gustave-spaeth
LOCATION:Mount Hope Cemetery 4700 Southwest 17th Street  Topeka KS 66604
GEO:39.0395603;-95.7393207
END:VEVENT
END:VCALENDAR